BEGIN:VCALENDAR
VERSION:2.0
PRODID:-//Plone.org//NONSGML plone.app.event//EN
X-WR-TIMEZONE:Europe/Madrid
BEGIN:VEVENT
SUMMARY:Cinema. Los niños de Winton
DTSTART;TZID=Europe/Madrid;VALUE=DATE-TIME:20240421T180000
DTEND;TZID=Europe/Madrid;VALUE=DATE-TIME:20240421T190000
DTSTAMP;VALUE=DATE-TIME:20260424T025028Z
UID:45a281a5f2f105a0ed8705a0c141ab01
CREATED;VALUE=DATE-TIME:20240421T000000Z
CATEGORIES:Cinema
LOCATION:Espai d'Arts Escèniques Casal d'Alella - Carrer de Santa Teresa, 9 08328 Alella
ORGANIZER:Ajuntament d'Alella
COMMENT:Preu: Feiners i Festius: 6,5    Dia de preu reduït: 4,50
Durada: Dissabte 20 d'abril a les 17h i a les 19:15h, diumenge 21 d'abril a les 18h i dilluns 22 d'abril a les 18h
URL:https://alella.cat/document.php?id=21733
END:VEVENT
END:VCALENDAR