BEGIN:VCALENDAR
VERSION:2.0
PRODID:-//Plone.org//NONSGML plone.app.event//EN
X-WR-TIMEZONE:Europe/Madrid
BEGIN:VEVENT
SUMMARY:Jocs de taula
DTSTART;TZID=Europe/Madrid;VALUE=DATE-TIME:20240414T110000
DTEND;TZID=Europe/Madrid;VALUE=DATE-TIME:20240414T120000
DTSTAMP;VALUE=DATE-TIME:20260423T172219Z
UID:10c62cbd615b5a81c5981f428d9c6709
CREATED;VALUE=DATE-TIME:20240414T000000Z
CATEGORIES:
LOCATION:e
ORGANIZER:Associació Casal d'Alella
COMMENT:Preu: Gratuït
URL:https://alella.cat/document.php?id=21662
END:VEVENT
END:VCALENDAR