BEGIN:VCALENDAR
VERSION:2.0
PRODID:-//Plone.org//NONSGML plone.app.event//EN
X-WR-TIMEZONE:Europe/Madrid
BEGIN:VEVENT
SUMMARY:Reunió Serveis Territorials d'Educació al Maresme i Vallés Oriental
DTSTART;TZID=Europe/Madrid;VALUE=DATE-TIME:20240205T113000
DTEND;TZID=Europe/Madrid;VALUE=DATE-TIME:20240205T123000
DTSTAMP;VALUE=DATE-TIME:20260423T155628Z
UID:0889e2950bd68e5ac4deea561588b68e
CREATED;VALUE=DATE-TIME:20240205T000000Z
CATEGORIES:Agenda institucional
LOCATION:Mataró
DESCRIPTION:Directora dels ST, Sra. Montserrat Domingo i Herraiz
URL:https://alella.cat/document.php?id=21267
END:VEVENT
END:VCALENDAR