BEGIN:VCALENDAR
VERSION:2.0
PRODID:-//Plone.org//NONSGML plone.app.event//EN
X-WR-TIMEZONE:Europe/Madrid
BEGIN:VEVENT
SUMMARY:Celebració del Dia Escolar de la No Violència i la Pau
DTSTART;TZID=Europe/Madrid;VALUE=DATE-TIME:20240130T090000
DTEND;TZID=Europe/Madrid;VALUE=DATE-TIME:20240130T100000
DTSTAMP;VALUE=DATE-TIME:20260422T145020Z
UID:c5fc073a97e83ab48fe722d4d66ed770
CREATED;VALUE=DATE-TIME:20240130T000000Z
CATEGORIES:Agenda institucional
LOCATION:Plaça Ajuntament
URL:https://alella.cat/document.php?id=21246
END:VEVENT
END:VCALENDAR