BEGIN:VCALENDAR
VERSION:2.0
PRODID:-//Plone.org//NONSGML plone.app.event//EN
X-WR-TIMEZONE:Europe/Madrid
BEGIN:VEVENT
SUMMARY:Reunió d'Alcaldies del Maresme amb el conseller d'Interior
DTSTART;TZID=Europe/Madrid;VALUE=DATE-TIME:20240126T130000
DTEND;TZID=Europe/Madrid;VALUE=DATE-TIME:20240126T140000
DTSTAMP;VALUE=DATE-TIME:20260425T140609Z
UID:ce7b62ee368eb5b1095b2d22964fa87b
CREATED;VALUE=DATE-TIME:20240126T000000Z
CATEGORIES:Agenda institucional
LOCATION:Centre Cívic Cabot i Barba de Mataró
DESCRIPTION:Hble. Sr. Joan Ignasi Elena Garcia
URL:https://alella.cat/document.php?id=21200
END:VEVENT
END:VCALENDAR