BEGIN:VCALENDAR
VERSION:2.0
PRODID:-//Plone.org//NONSGML plone.app.event//EN
X-WR-TIMEZONE:Europe/Madrid
BEGIN:VEVENT
SUMMARY:Carnestoltes 2024
DTSTART;TZID=Europe/Madrid;VALUE=DATE-TIME:20240211T110000
DTEND;TZID=Europe/Madrid;VALUE=DATE-TIME:20240211T120000
DTSTAMP;VALUE=DATE-TIME:20260424T012039Z
UID:220411276238d1a7b1b3bf06cc677884
CREATED;VALUE=DATE-TIME:20240211T000000Z
CATEGORIES:Festes i fires,Familiars
LOCATION:Plaça de l'Ajuntament - Plaça de l'Ajuntament, s/n. 08328 Alella
ORGANIZER:Ajuntament d'Alella amb la col·laboració d'entitats del poble
URL:https://alella.cat/document.php?id=20821
END:VEVENT
END:VCALENDAR