BEGIN:VCALENDAR
VERSION:2.0
PRODID:-//Plone.org//NONSGML plone.app.event//EN
X-WR-TIMEZONE:Europe/Madrid
BEGIN:VEVENT
SUMMARY:La Marató. Concert solidari de la Coral Polifònica Joia d'Alella
DTSTART;TZID=Europe/Madrid;VALUE=DATE-TIME:20231215T200000
DTEND;TZID=Europe/Madrid;VALUE=DATE-TIME:20231215T210000
DTSTAMP;VALUE=DATE-TIME:20260424T175513Z
UID:b36e7016dc92f8dbcbc8f3b8b7b128ad
CREATED;VALUE=DATE-TIME:20231215T000000Z
CATEGORIES:Música
LOCATION:Església Parroquial de Sant Feliu - Plaça de l'Església. 08328 Alella
ORGANIZER:Coral Polifònica Joia d'Alella
URL:https://alella.cat/document.php?id=20684
END:VEVENT
END:VCALENDAR