BEGIN:VCALENDAR
VERSION:2.0
PRODID:-//Plone.org//NONSGML plone.app.event//EN
X-WR-TIMEZONE:Europe/Madrid
BEGIN:VEVENT
SUMMARY:Mercat de puces d'ADANA
DTSTART;TZID=Europe/Madrid;VALUE=DATE-TIME:20231216T090000
DTEND;TZID=Europe/Madrid;VALUE=DATE-TIME:20231216T100000
DTSTAMP;VALUE=DATE-TIME:20260424T091949Z
UID:848987009a337463d0cf0c4d1e22a414
CREATED;VALUE=DATE-TIME:20231216T000000Z
CATEGORIES:Festes i fires
LOCATION:Dia 16 Moll de càrrega del Mercat Municipal i dia 17 Plaça de l'Ajuntament
ORGANIZER:ADANA
COMMENT:Durada: de 9.00 a 15.00
URL:https://alella.cat/document.php?id=20656
END:VEVENT
END:VCALENDAR