BEGIN:VCALENDAR
VERSION:2.0
PRODID:-//Plone.org//NONSGML plone.app.event//EN
X-WR-TIMEZONE:Europe/Madrid
BEGIN:VEVENT
SUMMARY:Signatura conveni Càritas d'Alella
DTSTART;TZID=Europe/Madrid;VALUE=DATE-TIME:20231026T163000
DTEND;TZID=Europe/Madrid;VALUE=DATE-TIME:20231026T173000
DTSTAMP;VALUE=DATE-TIME:20260424T054532Z
UID:dd34d0e7802f6052222cc9cb563da5ca
CREATED;VALUE=DATE-TIME:20231026T000000Z
CATEGORIES:Agenda institucional
LOCATION:Sala Plens
URL:https://alella.cat/document.php?id=20450
END:VEVENT
END:VCALENDAR