BEGIN:VCALENDAR
VERSION:2.0
PRODID:-//Plone.org//NONSGML plone.app.event//EN
X-WR-TIMEZONE:Europe/Madrid
BEGIN:VEVENT
SUMMARY:Assemblea General 2023 del Consorci Localret
DTSTART;TZID=Europe/Madrid;VALUE=DATE-TIME:20231010T163000
DTEND;TZID=Europe/Madrid;VALUE=DATE-TIME:20231010T173000
DTSTAMP;VALUE=DATE-TIME:20260424T204550Z
UID:0bff2c590793e1f4d98e6cd22de37ac8
CREATED;VALUE=DATE-TIME:20231010T000000Z
CATEGORIES:Agenda institucional
LOCATION:Sala Gran - Espai Francesca Bonnemaison (C Sant Pere Més Baix, 7, Barcelona).
DESCRIPTION:Assistència del regidor de Seguretat Ciutadana i Serveis Municiplas
URL:https://alella.cat/document.php?id=20360
END:VEVENT
END:VCALENDAR