BEGIN:VCALENDAR
VERSION:2.0
PRODID:-//Plone.org//NONSGML plone.app.event//EN
X-WR-TIMEZONE:Europe/Madrid
BEGIN:VEVENT
SUMMARY:Reunió grup municipal Junts per Catalunya - Alella
DTSTART;TZID=Europe/Madrid;VALUE=DATE-TIME:20230928T120000
DTEND;TZID=Europe/Madrid;VALUE=DATE-TIME:20230928T130000
DTSTAMP;VALUE=DATE-TIME:20260423T111633Z
UID:9e7a812efee15712691208451ed0f1d4
CREATED;VALUE=DATE-TIME:20230928T000000Z
CATEGORIES:Agenda institucional
LOCATION:Alcaldia
URL:https://alella.cat/document.php?id=20265
END:VEVENT
END:VCALENDAR