BEGIN:VCALENDAR
VERSION:2.0
PRODID:-//Plone.org//NONSGML plone.app.event//EN
X-WR-TIMEZONE:Europe/Madrid
BEGIN:VEVENT
SUMMARY:Consell Agrari municipal d'Alella
DTSTART;TZID=Europe/Madrid;VALUE=DATE-TIME:20230912T190000
DTEND;TZID=Europe/Madrid;VALUE=DATE-TIME:20230912T200000
DTSTAMP;VALUE=DATE-TIME:20260423T172012Z
UID:fd0ea7bacef9532ddec3d9898659c968
CREATED;VALUE=DATE-TIME:20230912T000000Z
CATEGORIES:Agenda institucional
LOCATION:Sala Plens
URL:https://alella.cat/document.php?id=20184
END:VEVENT
END:VCALENDAR