BEGIN:VCALENDAR
VERSION:2.0
PRODID:-//Plone.org//NONSGML plone.app.event//EN
X-WR-TIMEZONE:Europe/Madrid
BEGIN:VEVENT
SUMMARY:Acte institucional Ofrena floral de l'11 de setembre
DTSTART;TZID=Europe/Madrid;VALUE=DATE-TIME:20230911T110000
DTEND;TZID=Europe/Madrid;VALUE=DATE-TIME:20230911T120000
DTSTAMP;VALUE=DATE-TIME:20260422T042527Z
UID:31264fa63bf48fa829b2e775b8b30f1f
CREATED;VALUE=DATE-TIME:20230911T000000Z
CATEGORIES:Agenda institucional
LOCATION:Plaça Germans Lleonart
URL:https://alella.cat/document.php?id=20183
END:VEVENT
END:VCALENDAR