BEGIN:VCALENDAR
VERSION:2.0
PRODID:-//Plone.org//NONSGML plone.app.event//EN
X-WR-TIMEZONE:Europe/Madrid
BEGIN:VEVENT
SUMMARY:Música. Caminos 
DTSTART;TZID=Europe/Madrid;VALUE=DATE-TIME:20231124T200000
DTEND;TZID=Europe/Madrid;VALUE=DATE-TIME:20231124T210000
DTSTAMP;VALUE=DATE-TIME:20260422T025156Z
UID:2e866c379b430cf76b359b5e57829ff8
CREATED;VALUE=DATE-TIME:20231124T000000Z
CATEGORIES:Espectacles,Música
LOCATION:Espai d'Arts Escèniques Casal d'Alella - Carrer de Santa Teresa, 9 08328 Alella
ORGANIZER:Ajuntament d'Alella
COMMENT:Durada: 60 minuts
URL:https://alella.cat/document.php?id=20160
END:VEVENT
END:VCALENDAR