BEGIN:VCALENDAR
VERSION:2.0
PRODID:-//Plone.org//NONSGML plone.app.event//EN
X-WR-TIMEZONE:Europe/Madrid
BEGIN:VEVENT
SUMMARY:Teatre. Ai, ai, ai 
DTSTART;TZID=Europe/Madrid;VALUE=DATE-TIME:20231117T200000
DTEND;TZID=Europe/Madrid;VALUE=DATE-TIME:20231117T210000
DTSTAMP;VALUE=DATE-TIME:20260424T121734Z
UID:517a9bc474b589042e3980b592d44a90
CREATED;VALUE=DATE-TIME:20231117T000000Z
CATEGORIES:Espectacles
LOCATION:Espai d'Arts Escèniques Casal d'Alella - Carrer de Santa Teresa, 9 08328 Alella
ORGANIZER:Ajuntament d'Alella
DESCRIPTION:ENTRADES EXHAURIDES
URL:https://alella.cat/document.php?id=20156
END:VEVENT
END:VCALENDAR