BEGIN:VCALENDAR
VERSION:2.0
PRODID:-//Plone.org//NONSGML plone.app.event//EN
X-WR-TIMEZONE:Europe/Madrid
BEGIN:VEVENT
SUMMARY:Xerrada "La gestió i recollida selectiva de la matèria orgànica"
DTSTART;TZID=Europe/Madrid;VALUE=DATE-TIME:20230920T190000
DTEND;TZID=Europe/Madrid;VALUE=DATE-TIME:20230920T200000
DTSTAMP;VALUE=DATE-TIME:20260423T050648Z
UID:de8b5c602adea3e64ddd1e991cf9cb8c
CREATED;VALUE=DATE-TIME:20230920T000000Z
CATEGORIES:Tertúlies
LOCATION:Espai d'Arts Escèniques Casal d'Alella - Carrer de Santa Teresa, 9 08328 Alella
ORGANIZER:Ajuntament d'Alella
COMMENT:Preu: Gratuït
Durada: de 19 a 20h
DESCRIPTION:Activitat inclosa al "Mou-te pels residus", 10% de reducció de la taxa de residus
URL:https://alella.cat/document.php?id=19987
END:VEVENT
END:VCALENDAR