BEGIN:VCALENDAR
VERSION:2.0
PRODID:-//Plone.org//NONSGML plone.app.event//EN
X-WR-TIMEZONE:Europe/Madrid
BEGIN:VEVENT
SUMMARY:Cinema. Las ocho montañas
DTSTART;TZID=Europe/Madrid;VALUE=DATE-TIME:20230708T190000
DTEND;TZID=Europe/Madrid;VALUE=DATE-TIME:20230708T200000
DTSTAMP;VALUE=DATE-TIME:20260421T071519Z
UID:31b0c781a9c4c7055c505d3d8672918d
CREATED;VALUE=DATE-TIME:20230708T000000Z
CATEGORIES:Cinema
LOCATION:Espai d'Arts Escèniques Casal d'Alella - Carrer de Santa Teresa, 9 08328 Alella
ORGANIZER:Ajuntament d'Alella
COMMENT:Preu: Feiners i Festius: 6,5    Dia de preu reduït: 4,50
Durada: Dissabte 8 de juliol a les 19:00h/ Dilluns 10 de juliol a les 20:00h
URL:https://alella.cat/document.php?id=19891
END:VEVENT
END:VCALENDAR