BEGIN:VCALENDAR
VERSION:2.0
PRODID:-//Plone.org//NONSGML plone.app.event//EN
X-WR-TIMEZONE:Europe/Madrid
BEGIN:VEVENT
SUMMARY:Cinema. Els encantats
DTSTART;TZID=Europe/Madrid;VALUE=DATE-TIME:20230709T190000
DTEND;TZID=Europe/Madrid;VALUE=DATE-TIME:20230709T200000
DTSTAMP;VALUE=DATE-TIME:20260421T214352Z
UID:62ae7266aa72a04a0e3feddacffc58db
CREATED;VALUE=DATE-TIME:20230709T000000Z
CATEGORIES:Cinema
LOCATION:Espai d'Arts Escèniques Casal d'Alella - Carrer de Santa Teresa, 9 08328 Alella
ORGANIZER:Ajuntament d'Alella
COMMENT:Preu: Feiners i Festius: 6,5    Dia de preu reduït: 4,50
Durada: Diumenge  9 de juliol a les 19h/ Dilluns 10 de juliol a les 18h
URL:https://alella.cat/document.php?id=19888
END:VEVENT
END:VCALENDAR