BEGIN:VCALENDAR
VERSION:2.0
PRODID:-//Plone.org//NONSGML plone.app.event//EN
X-WR-TIMEZONE:Europe/Madrid
BEGIN:VEVENT
SUMMARY:"L'art com a eina de resiliència"
DTSTART;TZID=Europe/Madrid;VALUE=DATE-TIME:20230711T190000
DTEND;TZID=Europe/Madrid;VALUE=DATE-TIME:20230711T200000
DTSTAMP;VALUE=DATE-TIME:20260421T214103Z
UID:5b5a07aeaacc25e8d4df2e1d2509ee48
CREATED;VALUE=DATE-TIME:20230711T000000Z
CATEGORIES:Exposició,Tertúlies
LOCATION:Can Manyé. Espai d'art i creació - Riera Coma Fosca 42. 08328 Alella
ORGANIZER:Ajuntament d'Alella
COMMENT:Preu: Gratuït
DESCRIPTION:Xerrada amb l'artista Samira Badran dins del cicle de tertúlies de la Comissió de Cooperació Internacional
URL:https://alella.cat/document.php?id=19862
END:VEVENT
END:VCALENDAR