BEGIN:VCALENDAR
VERSION:2.0
PRODID:-//Plone.org//NONSGML plone.app.event//EN
X-WR-TIMEZONE:Europe/Madrid
BEGIN:VEVENT
SUMMARY:Torneig de billar i futbolí
DTSTART;TZID=Europe/Madrid;VALUE=DATE-TIME:20230708T173000
DTEND;TZID=Europe/Madrid;VALUE=DATE-TIME:20230708T183000
DTSTAMP;VALUE=DATE-TIME:20260422T193944Z
UID:1e44e6830b3057bf23234bc25563b108
CREATED;VALUE=DATE-TIME:20230708T000000Z
CATEGORIES:Festes i fires,Joves
LOCATION:Àgora - Avinguda Ferran Fabra, 1 08328
ORGANIZER:Comissió de la Fil·loxera i Ajuntament d'Alella
COMMENT:Preu: Gratuït
Durada: Horari: de 17:30h a 19h
URL:https://alella.cat/document.php?id=19766
END:VEVENT
END:VCALENDAR