BEGIN:VCALENDAR
VERSION:2.0
PRODID:-//Plone.org//NONSGML plone.app.event//EN
X-WR-TIMEZONE:Europe/Madrid
BEGIN:VEVENT
SUMMARY:Club de lectura. Els anys, d'Annie Ernaux
DTSTART;TZID=Europe/Madrid;VALUE=DATE-TIME:20230706T200000
DTEND;TZID=Europe/Madrid;VALUE=DATE-TIME:20230706T210000
DTSTAMP;VALUE=DATE-TIME:20260421T105313Z
UID:d098efc80e53c01ad6dd78deebc192e2
CREATED;VALUE=DATE-TIME:20230706T000000Z
CATEGORIES:Literatura
LOCATION:Biblioteca Municipal Ferrer i Guàrdia - Hort de la Rectoria. 08328 Alella
ORGANIZER:Ajuntament d'Alella
COMMENT:Preu: Gratuït
URL:https://alella.cat/document.php?id=19728
END:VEVENT
END:VCALENDAR