BEGIN:VCALENDAR
VERSION:2.0
PRODID:-//Plone.org//NONSGML plone.app.event//EN
X-WR-TIMEZONE:Europe/Madrid
BEGIN:VEVENT
SUMMARY:Junta de Govern
DTSTART;TZID=Europe/Madrid;VALUE=DATE-TIME:20230518T183000
DTEND;TZID=Europe/Madrid;VALUE=DATE-TIME:20230518T193000
DTSTAMP;VALUE=DATE-TIME:20260420T122852Z
UID:858bd0db99dd6b7d9d3e08b5d97d44c8
CREATED;VALUE=DATE-TIME:20230518T000000Z
CATEGORIES:Agenda institucional
LOCATION:Sala Plens
URL:https://alella.cat/document.php?id=19600
END:VEVENT
END:VCALENDAR