BEGIN:VCALENDAR
VERSION:2.0
PRODID:-//Plone.org//NONSGML plone.app.event//EN
X-WR-TIMEZONE:Europe/Madrid
BEGIN:VEVENT
SUMMARY:'Mirades al món'
DTSTART;TZID=Europe/Madrid;VALUE=DATE-TIME:20111127T110000
DTEND;TZID=Europe/Madrid;VALUE=DATE-TIME:20111127T120000
DTSTAMP;VALUE=DATE-TIME:20260423T234933Z
UID:6a44ee35d10b78ab3d2740501695f9b3
CREATED;VALUE=DATE-TIME:20111127T000000Z
CATEGORIES:
LOCATION:Plaça de l'Ajuntament - Plaça de l'Ajuntament, s/n. 08328 Alella
ORGANIZER:Ajuntament d'Alella
COMMENT:Preu: Gratuït
URL:https://alella.cat/document.php?id=1959
END:VEVENT
END:VCALENDAR