BEGIN:VCALENDAR
VERSION:2.0
PRODID:-//Plone.org//NONSGML plone.app.event//EN
X-WR-TIMEZONE:Europe/Madrid
BEGIN:VEVENT
SUMMARY:15a Festa de la Gent Gran- Inauguració i Teatre La Cupletista
DTSTART;TZID=Europe/Madrid;VALUE=DATE-TIME:20230531T180000
DTEND;TZID=Europe/Madrid;VALUE=DATE-TIME:20230531T190000
DTSTAMP;VALUE=DATE-TIME:20260424T204535Z
UID:6d562273f4a7537cd321915b15a7a1cc
CREATED;VALUE=DATE-TIME:20230531T000000Z
CATEGORIES:Música,Jornades
LOCATION:Espai d'Arts Escèniques Casal d'Alella - Carrer de Santa Teresa, 9 08328 Alella
ORGANIZER:Ajuntament d'Alella
COMMENT:Preu: Gratuït
URL:https://alella.cat/document.php?id=19487
END:VEVENT
END:VCALENDAR