BEGIN:VCALENDAR
VERSION:2.0
PRODID:-//Plone.org//NONSGML plone.app.event//EN
X-WR-TIMEZONE:Europe/Madrid
BEGIN:VEVENT
SUMMARY:Conferència inaugural de les Novenes Jornades Ferrer i Guàrdia
DTSTART;TZID=Europe/Madrid;VALUE=DATE-TIME:20111116T200000
DTEND;TZID=Europe/Madrid;VALUE=DATE-TIME:20111116T210000
DTSTAMP;VALUE=DATE-TIME:20260422T230557Z
UID:9f82be15ae97cea9162001483796c20c
CREATED;VALUE=DATE-TIME:20111116T000000Z
CATEGORIES:
LOCATION:Centre Cultural de Can Lleonart - Plaça dels Germans Lleonart, 1 08328 Alella
ORGANIZER:Ajuntament d'Alella
COMMENT:Preu: Gratuït
URL:https://alella.cat/document.php?id=1947
END:VEVENT
END:VCALENDAR