BEGIN:VCALENDAR
VERSION:2.0
PRODID:-//Plone.org//NONSGML plone.app.event//EN
X-WR-TIMEZONE:Europe/Madrid
BEGIN:VEVENT
SUMMARY:Reunió entitats esportives
DTSTART;TZID=Europe/Madrid;VALUE=DATE-TIME:20230426T190000
DTEND;TZID=Europe/Madrid;VALUE=DATE-TIME:20230426T200000
DTSTAMP;VALUE=DATE-TIME:20260422T145035Z
UID:361efa9d3827e4cd5c04c4b5cf75bbee
CREATED;VALUE=DATE-TIME:20230426T000000Z
CATEGORIES:Agenda institucional
LOCATION:Sala polivalent del Pavelló Municipal d'Esports
URL:https://alella.cat/document.php?id=19465
END:VEVENT
END:VCALENDAR