BEGIN:VCALENDAR
VERSION:2.0
PRODID:-//Plone.org//NONSGML plone.app.event//EN
X-WR-TIMEZONE:Europe/Madrid
BEGIN:VEVENT
SUMMARY:Sant Jordi a Alella. Parades de llibres i roses
DTSTART;TZID=Europe/Madrid;VALUE=DATE-TIME:20230423T080000
DTEND;TZID=Europe/Madrid;VALUE=DATE-TIME:20230423T090000
DTSTAMP;VALUE=DATE-TIME:20260421T050619Z
UID:c48909df7abd544ba0ef4b213a22b093
CREATED;VALUE=DATE-TIME:20230423T000000Z
CATEGORIES:Festes i fires
LOCATION:Plaça de l'Ajuntament - Plaça de l'Ajuntament, s/n. 08328 Alella
ORGANIZER:Ajuntament d'Alella, ANC Alella i Òmnium Cultural
URL:https://alella.cat/document.php?id=19449
END:VEVENT
END:VCALENDAR