BEGIN:VCALENDAR
VERSION:2.0
PRODID:-//Plone.org//NONSGML plone.app.event//EN
X-WR-TIMEZONE:Europe/Madrid
BEGIN:VEVENT
SUMMARY:Reunió amb l'Associació de Municipis i Entitats per l'Aigua Pública (AMAP)
DTSTART;TZID=Europe/Madrid;VALUE=DATE-TIME:20230330T130000
DTEND;TZID=Europe/Madrid;VALUE=DATE-TIME:20230330T140000
DTSTAMP;VALUE=DATE-TIME:20260421T164250Z
UID:f06e20bef6e96daccd37a1e14d4bc5d3
CREATED;VALUE=DATE-TIME:20230330T000000Z
CATEGORIES:Agenda institucional
LOCATION:Alcaldia
URL:https://alella.cat/document.php?id=19311
END:VEVENT
END:VCALENDAR