BEGIN:VCALENDAR
VERSION:2.0
PRODID:-//Plone.org//NONSGML plone.app.event//EN
X-WR-TIMEZONE:Europe/Madrid
BEGIN:VEVENT
SUMMARY:Tertúlia. Mai no és tard
DTSTART;TZID=Europe/Madrid;VALUE=DATE-TIME:20230601T190000
DTEND;TZID=Europe/Madrid;VALUE=DATE-TIME:20230601T200000
DTSTAMP;VALUE=DATE-TIME:20260422T060328Z
UID:a4b52c3ce07bd2253644ff89addf2f16
CREATED;VALUE=DATE-TIME:20230601T000000Z
CATEGORIES:Tertúlies
LOCATION:Centre Cultural de Can Lleonart - Plaça dels Germans Lleonart, 1 08328 Alella
ORGANIZER:Ajuntament d'Alella
COMMENT:Preu: Gratuït
Durada: 2 hores
URL:https://alella.cat/document.php?id=19286
END:VEVENT
END:VCALENDAR