BEGIN:VCALENDAR
VERSION:2.0
PRODID:-//Plone.org//NONSGML plone.app.event//EN
X-WR-TIMEZONE:Europe/Madrid
BEGIN:VEVENT
SUMMARY:Parcs i biblioteques... Naturalment! - Recital i música
DTSTART;TZID=Europe/Madrid;VALUE=DATE-TIME:20230531T193000
DTEND;TZID=Europe/Madrid;VALUE=DATE-TIME:20230531T203000
DTSTAMP;VALUE=DATE-TIME:20260421T071346Z
UID:1e08accc406c8bb50878b64b4d1ca65a
CREATED;VALUE=DATE-TIME:20230531T000000Z
CATEGORIES:Música,Literatura
LOCATION:Biblioteca Municipal Ferrer i Guàrdia - Hort de la Rectoria. 08328 Alella
ORGANIZER:Ajuntament d'Alella
COMMENT:Preu: Gratuït
DESCRIPTION:Rumbesia a la natura
URL:https://alella.cat/document.php?id=19282
END:VEVENT
END:VCALENDAR