BEGIN:VCALENDAR
VERSION:2.0
PRODID:-//Plone.org//NONSGML plone.app.event//EN
X-WR-TIMEZONE:Europe/Madrid
BEGIN:VEVENT
SUMMARY:Parcs i biblioteques... Naturalment! - Espectacle familiar
DTSTART;TZID=Europe/Madrid;VALUE=DATE-TIME:20230525T173000
DTEND;TZID=Europe/Madrid;VALUE=DATE-TIME:20230525T183000
DTSTAMP;VALUE=DATE-TIME:20260422T113252Z
UID:0be34bc6ba0b34457dc48e1e45b727e6
CREATED;VALUE=DATE-TIME:20230525T000000Z
CATEGORIES:Familiars
LOCATION:Biblioteca Municipal Ferrer i Guàrdia - Hort de la Rectoria. 08328 Alella
ORGANIZER:Ajuntament d'Alella
COMMENT:Preu: Gratuït
DESCRIPTION:Llavors de lluna
URL:https://alella.cat/document.php?id=19278
END:VEVENT
END:VCALENDAR