BEGIN:VCALENDAR
VERSION:2.0
PRODID:-//Plone.org//NONSGML plone.app.event//EN
X-WR-TIMEZONE:Europe/Madrid
BEGIN:VEVENT
SUMMARY:Audiència pública de barri: Mar i Muntanya, Can Teixidor, La Soleia, La Solaia, La Serreta
DTSTART;TZID=Europe/Madrid;VALUE=DATE-TIME:20230207T193000
DTEND;TZID=Europe/Madrid;VALUE=DATE-TIME:20230207T203000
DTSTAMP;VALUE=DATE-TIME:20260421T064423Z
UID:11544228dcb870ca05bc9849f4701445
CREATED;VALUE=DATE-TIME:20230207T000000Z
CATEGORIES:Jornades
LOCATION:Sala de Plens de l'Ajuntament - Plaça de l'Ajuntament, 1. 08328 Alella.
ORGANIZER:Ajuntament d'Alella
URL:https://alella.cat/document.php?id=19029
END:VEVENT
END:VCALENDAR