BEGIN:VCALENDAR
VERSION:2.0
PRODID:-//Plone.org//NONSGML plone.app.event//EN
X-WR-TIMEZONE:Europe/Madrid
BEGIN:VEVENT
SUMMARY:Bus consum
DTSTART;TZID=Europe/Madrid;VALUE=DATE-TIME:20230210T103000
DTEND;TZID=Europe/Madrid;VALUE=DATE-TIME:20230210T113000
DTSTAMP;VALUE=DATE-TIME:20260421T214207Z
UID:3781412892fd8d3e835c1b087c7ccc7d
CREATED;VALUE=DATE-TIME:20230210T000000Z
CATEGORIES:Jornades
LOCATION:Aparcament de Can Lleonart
ORGANIZER:Ajuntament d'Alella i Diputació de Barcelona
URL:https://alella.cat/document.php?id=19021
END:VEVENT
END:VCALENDAR