BEGIN:VCALENDAR
VERSION:2.0
PRODID:-//Plone.org//NONSGML plone.app.event//EN
X-WR-TIMEZONE:Europe/Madrid
BEGIN:VEVENT
SUMMARY:Reunió Consell d'Administració del Consorci LOCALRET
DTSTART;TZID=Europe/Madrid;VALUE=DATE-TIME:20230131T163000
DTEND;TZID=Europe/Madrid;VALUE=DATE-TIME:20230131T173000
DTSTAMP;VALUE=DATE-TIME:20260424T192011Z
UID:8215d82e09e29d661193c2cd66d7f8b0
CREATED;VALUE=DATE-TIME:20230131T000000Z
CATEGORIES:Agenda institucional
LOCATION:videoconferència
URL:https://alella.cat/document.php?id=18985
END:VEVENT
END:VCALENDAR