BEGIN:VCALENDAR
VERSION:2.0
PRODID:-//Plone.org//NONSGML plone.app.event//EN
X-WR-TIMEZONE:Europe/Madrid
BEGIN:VEVENT
SUMMARY:Junta de Govern
DTSTART;TZID=Europe/Madrid;VALUE=DATE-TIME:20221201T183000
DTEND;TZID=Europe/Madrid;VALUE=DATE-TIME:20221201T193000
DTSTAMP;VALUE=DATE-TIME:20260423T052237Z
UID:538fed447a1ba735c25cd919e9c9c9f9
CREATED;VALUE=DATE-TIME:20221201T000000Z
CATEGORIES:Agenda institucional
LOCATION:Sala Plens
URL:https://alella.cat/document.php?id=18660
END:VEVENT
END:VCALENDAR