BEGIN:VCALENDAR
VERSION:2.0
PRODID:-//Plone.org//NONSGML plone.app.event//EN
X-WR-TIMEZONE:Europe/Madrid
BEGIN:VEVENT
SUMMARY:Reunió entitats esportives
DTSTART;TZID=Europe/Madrid;VALUE=DATE-TIME:20221123T193000
DTEND;TZID=Europe/Madrid;VALUE=DATE-TIME:20221123T203000
DTSTAMP;VALUE=DATE-TIME:20260424T054547Z
UID:09f11b770a4ca848e5e8e2c52a6fa69f
CREATED;VALUE=DATE-TIME:20221123T000000Z
CATEGORIES:Agenda institucional
LOCATION:Pavello / Complex Esportiu
URL:https://alella.cat/document.php?id=18575
END:VEVENT
END:VCALENDAR