BEGIN:VCALENDAR
VERSION:2.0
PRODID:-//Plone.org//NONSGML plone.app.event//EN
X-WR-TIMEZONE:Europe/Madrid
BEGIN:VEVENT
SUMMARY:Entrevistes Jutge/essa de Pau d'Alella suplent
DTSTART;TZID=Europe/Madrid;VALUE=DATE-TIME:20221123T183000
DTEND;TZID=Europe/Madrid;VALUE=DATE-TIME:20221123T193000
DTSTAMP;VALUE=DATE-TIME:20260424T110131Z
UID:cef8f682dd56a28bbdbbb725d7e17ddc
CREATED;VALUE=DATE-TIME:20221123T000000Z
CATEGORIES:Agenda institucional
LOCATION:Sala Plens
URL:https://alella.cat/document.php?id=18574
END:VEVENT
END:VCALENDAR