BEGIN:VCALENDAR
VERSION:2.0
PRODID:-//Plone.org//NONSGML plone.app.event//EN
X-WR-TIMEZONE:Europe/Madrid
BEGIN:VEVENT
SUMMARY:Assistència a la inauguració de la Mostra Gastronòmica de Santa Coloma de Gramenet
DTSTART;TZID=Europe/Madrid;VALUE=DATE-TIME:20221008T110000
DTEND;TZID=Europe/Madrid;VALUE=DATE-TIME:20221008T120000
DTSTAMP;VALUE=DATE-TIME:20260423T064325Z
UID:d6789028baa7d0b50fc992f3f4b2937a
CREATED;VALUE=DATE-TIME:20221008T000000Z
CATEGORIES:Agenda institucional
LOCATION:-
URL:https://alella.cat/document.php?id=18290
END:VEVENT
END:VCALENDAR