BEGIN:VCALENDAR
VERSION:2.0
PRODID:-//Plone.org//NONSGML plone.app.event//EN
X-WR-TIMEZONE:Europe/Madrid
BEGIN:VEVENT
SUMMARY:Atenció a la ciutadania
DTSTART;TZID=Europe/Madrid;VALUE=DATE-TIME:20221005T083000
DTEND;TZID=Europe/Madrid;VALUE=DATE-TIME:20221005T093000
DTSTAMP;VALUE=DATE-TIME:20260424T121649Z
UID:3c9ddc54ce519b923f03e38214f2b17d
CREATED;VALUE=DATE-TIME:20221005T000000Z
CATEGORIES:Agenda institucional
LOCATION:Alcaldia
URL:https://alella.cat/document.php?id=18263
END:VEVENT
END:VCALENDAR