BEGIN:VCALENDAR
VERSION:2.0
PRODID:-//Plone.org//NONSGML plone.app.event//EN
X-WR-TIMEZONE:Europe/Madrid
BEGIN:VEVENT
SUMMARY:Estrena del telefilm "Alguns dies d'ahir" i col·loqui amb els protagonistes
DTSTART;TZID=Europe/Madrid;VALUE=DATE-TIME:20221002T180000
DTEND;TZID=Europe/Madrid;VALUE=DATE-TIME:20221002T190000
DTSTAMP;VALUE=DATE-TIME:20260423T172146Z
UID:98fde99d7f9df9317fff8c563d552019
CREATED;VALUE=DATE-TIME:20221002T000000Z
CATEGORIES:Agenda institucional
URL:https://alella.cat/document.php?id=18204
END:VEVENT
END:VCALENDAR