BEGIN:VCALENDAR
VERSION:2.0
PRODID:-//Plone.org//NONSGML plone.app.event//EN
X-WR-TIMEZONE:Europe/Madrid
BEGIN:VEVENT
SUMMARY:Intervenció al carrer. Antenes en tens
DTSTART;TZID=Europe/Madrid;VALUE=DATE-TIME:20220910T120000
DTEND;TZID=Europe/Madrid;VALUE=DATE-TIME:20220910T130000
DTSTAMP;VALUE=DATE-TIME:20260421T134251Z
UID:7536b1c705968060ad47fa2ba9b144fb
CREATED;VALUE=DATE-TIME:20220910T000000Z
CATEGORIES:Jornades,Festes i fires
LOCATION:Diferents carrers (rambla d'Àngel Guimerà, plaça dels Germans Lleonart, Plaça de l'Ajuntament)
ORGANIZER:Ajuntament d'Alella
COMMENT:Durada: de 12 a 14 h
URL:https://alella.cat/document.php?id=18050
END:VEVENT
END:VCALENDAR