BEGIN:VCALENDAR
VERSION:2.0
PRODID:-//Plone.org//NONSGML plone.app.event//EN
X-WR-TIMEZONE:Europe/Madrid
BEGIN:VEVENT
SUMMARY:Festa Major. Orelles de xocolata
DTSTART;TZID=Europe/Madrid;VALUE=DATE-TIME:20220731T190000
DTEND;TZID=Europe/Madrid;VALUE=DATE-TIME:20220731T200000
DTSTAMP;VALUE=DATE-TIME:20260420T014443Z
UID:5b674e9eb5a9bf11274c07d23f6ef81d
CREATED;VALUE=DATE-TIME:20220731T000000Z
CATEGORIES:Festes i fires,Familiars
LOCATION:Hort de la Rectoria
ORGANIZER:Ajuntament d'Alella
URL:https://alella.cat/document.php?id=17873
END:VEVENT
END:VCALENDAR