BEGIN:VCALENDAR
VERSION:2.0
PRODID:-//Plone.org//NONSGML plone.app.event//EN
X-WR-TIMEZONE:Europe/Madrid
BEGIN:VEVENT
SUMMARY:Junta de Govern
DTSTART;TZID=Europe/Madrid;VALUE=DATE-TIME:20220616T183000
DTEND;TZID=Europe/Madrid;VALUE=DATE-TIME:20220616T193000
DTSTAMP;VALUE=DATE-TIME:20260421T232822Z
UID:5bdb90e6b5ea69609a013d1982079f5e
CREATED;VALUE=DATE-TIME:20220616T000000Z
CATEGORIES:Agenda institucional
LOCATION:Sala de Juntes
URL:https://alella.cat/document.php?id=17627
END:VEVENT
END:VCALENDAR