BEGIN:VCALENDAR
VERSION:2.0
PRODID:-//Plone.org//NONSGML plone.app.event//EN
X-WR-TIMEZONE:Europe/Madrid
BEGIN:VEVENT
SUMMARY:Reunió empresa BeCorp
DTSTART;TZID=Europe/Madrid;VALUE=DATE-TIME:20220616T120000
DTEND;TZID=Europe/Madrid;VALUE=DATE-TIME:20220616T130000
DTSTAMP;VALUE=DATE-TIME:20260425T010615Z
UID:948005fa0810496e3f9e6ee1d01b373f
CREATED;VALUE=DATE-TIME:20220616T000000Z
CATEGORIES:Agenda institucional
LOCATION:Sala Plens
URL:https://alella.cat/document.php?id=17626
END:VEVENT
END:VCALENDAR