BEGIN:VCALENDAR
VERSION:2.0
PRODID:-//Plone.org//NONSGML plone.app.event//EN
X-WR-TIMEZONE:Europe/Madrid
BEGIN:VEVENT
SUMMARY:Trobada amb les direccions de les residencies
DTSTART;TZID=Europe/Madrid;VALUE=DATE-TIME:20220506T090000
DTEND;TZID=Europe/Madrid;VALUE=DATE-TIME:20220506T100000
DTSTAMP;VALUE=DATE-TIME:20260422T131113Z
UID:908e01ba59071c78bec88c833256ea1c
CREATED;VALUE=DATE-TIME:20220506T000000Z
CATEGORIES:Agenda institucional
LOCATION:Sala Plens
URL:https://alella.cat/document.php?id=17362
END:VEVENT
END:VCALENDAR