BEGIN:VCALENDAR
VERSION:2.0
PRODID:-//Plone.org//NONSGML plone.app.event//EN
X-WR-TIMEZONE:Europe/Madrid
BEGIN:VEVENT
SUMMARY:Atenció a la ciutadania
DTSTART;TZID=Europe/Madrid;VALUE=DATE-TIME:20220504T083000
DTEND;TZID=Europe/Madrid;VALUE=DATE-TIME:20220504T093000
DTSTAMP;VALUE=DATE-TIME:20260422T212247Z
UID:d1d5d48d9691618ab4b2ecd89a1f8b43
CREATED;VALUE=DATE-TIME:20220504T000000Z
CATEGORIES:Agenda institucional
LOCATION:Alcaldia
URL:https://alella.cat/document.php?id=17356
END:VEVENT
END:VCALENDAR