BEGIN:VCALENDAR
VERSION:2.0
PRODID:-//Plone.org//NONSGML plone.app.event//EN
X-WR-TIMEZONE:Europe/Madrid
BEGIN:VEVENT
SUMMARY:Reunió amb representants de Correus i Telègrafs
DTSTART;TZID=Europe/Madrid;VALUE=DATE-TIME:20220330T113000
DTEND;TZID=Europe/Madrid;VALUE=DATE-TIME:20220330T123000
DTSTAMP;VALUE=DATE-TIME:20260423T064311Z
UID:bb43ba94116d939aef701a5b1644dc93
CREATED;VALUE=DATE-TIME:20220330T000000Z
CATEGORIES:Agenda institucional
LOCATION:Sala Plens
URL:https://alella.cat/document.php?id=17112
END:VEVENT
END:VCALENDAR