BEGIN:VCALENDAR
VERSION:2.0
PRODID:-//Plone.org//NONSGML plone.app.event//EN
X-WR-TIMEZONE:Europe/Madrid
BEGIN:VEVENT
SUMMARY:Canta'm uns contes, conta'm cançons
DTSTART;TZID=Europe/Madrid;VALUE=DATE-TIME:20220426T173000
DTEND;TZID=Europe/Madrid;VALUE=DATE-TIME:20220426T183000
DTSTAMP;VALUE=DATE-TIME:20260423T235033Z
UID:3bcde65ae92a0e5dfe896db9b54fe6b6
CREATED;VALUE=DATE-TIME:20220426T000000Z
CATEGORIES:Música,Literatura,Jornades,Familiars
LOCATION:Biblioteca Municipal Ferrer i Guàrdia - Hort de la Rectoria. 08328 Alella
ORGANIZER:Ajuntament d'Alella
URL:https://alella.cat/document.php?id=17077
END:VEVENT
END:VCALENDAR