BEGIN:VCALENDAR
VERSION:2.0
PRODID:-//Plone.org//NONSGML plone.app.event//EN
X-WR-TIMEZONE:Europe/Madrid
BEGIN:VEVENT
SUMMARY:Maravint (cançó pop d'autor)
DTSTART;TZID=Europe/Madrid;VALUE=DATE-TIME:20220326T223000
DTEND;TZID=Europe/Madrid;VALUE=DATE-TIME:20220326T233000
DTSTAMP;VALUE=DATE-TIME:20260421T181226Z
UID:bec921284b1dfda21fa6587f1ccda72b
CREATED;VALUE=DATE-TIME:20220326T000000Z
CATEGORIES:Espectacles,Música,Joves
LOCATION:Casal d'Alella. C. de Santa Madrona, 10. Alella (El Maresme)
ORGANIZER:Associació Casal d'Alella
COMMENT:Preu: Gratuït
DESCRIPTION:Concerts al Casal
URL:https://alella.cat/document.php?id=17063
END:VEVENT
END:VCALENDAR