BEGIN:VCALENDAR
VERSION:2.0
PRODID:-//Plone.org//NONSGML plone.app.event//EN
X-WR-TIMEZONE:Europe/Madrid
BEGIN:VEVENT
SUMMARY:Reunió Comissió Mobilitat
DTSTART;TZID=Europe/Madrid;VALUE=DATE-TIME:20220211T110000
DTEND;TZID=Europe/Madrid;VALUE=DATE-TIME:20220211T120000
DTSTAMP;VALUE=DATE-TIME:20260424T024940Z
UID:2ac42adfc5dc9a8ff1866842ed9d15a4
CREATED;VALUE=DATE-TIME:20220211T000000Z
CATEGORIES:Agenda institucional
LOCATION:Sala Plens
URL:https://alella.cat/document.php?id=16751
END:VEVENT
END:VCALENDAR